BEGIN:VCALENDAR
VERSION:2.0
PRODID:-//ESSENTRICS with Caroline - ECPv6.0.12//NONSGML v1.0//EN
CALSCALE:GREGORIAN
METHOD:PUBLISH
X-ORIGINAL-URL:https://www.essentricswithcaroline.ca
X-WR-CALDESC:Events for ESSENTRICS with Caroline
REFRESH-INTERVAL;VALUE=DURATION:PT1H
X-Robots-Tag:noindex
X-PUBLISHED-TTL:PT1H
BEGIN:VTIMEZONE
TZID:America/Toronto
BEGIN:DAYLIGHT
TZOFFSETFROM:-0500
TZOFFSETTO:-0400
TZNAME:EDT
DTSTART:20260308T070000
END:DAYLIGHT
BEGIN:STANDARD
TZOFFSETFROM:-0400
TZOFFSETTO:-0500
TZNAME:EST
DTSTART:20261101T060000
END:STANDARD
END:VTIMEZONE
BEGIN:VEVENT
DTSTART;TZID=America/Toronto:20260321T103000
DTEND;TZID=America/Toronto:20260321T113000
DTSTAMP:20260421T075026
CREATED:20251224T134826Z
LAST-MODIFIED:20251224T134826Z
UID:5883-1774089000-1774092600@www.essentricswithcaroline.ca
SUMMARY:BOOK NOW - SATURDAY 10:30AM - Essentrics®Dynamic Stretch & Strength - STOCKEY CENTRE (PARRY SOUND)
DESCRIPTION:
URL:https://www.essentricswithcaroline.ca/event/book-now-saturday-1030am-essentricsdynamic-stretch-strength-stockey-centre-parry-sound-5/
LOCATION:Stockey Centre – Parry Sound\, 2 BAY STREET\, PARRY SOUND\, Ontario\, Canada
CATEGORIES:Group Classes
ORGANIZER;CN="Caroline":MAILTO:info@essentricswithcaroline.ca
END:VEVENT
END:VCALENDAR