BEGIN:VCALENDAR
VERSION:2.0
PRODID:-//ESSENTRICS with Caroline - ECPv6.0.12//NONSGML v1.0//EN
CALSCALE:GREGORIAN
METHOD:PUBLISH
X-WR-CALNAME:ESSENTRICS with Caroline
X-ORIGINAL-URL:https://www.essentricswithcaroline.ca
X-WR-CALDESC:Events for ESSENTRICS with Caroline
REFRESH-INTERVAL;VALUE=DURATION:PT1H
X-Robots-Tag:noindex
X-PUBLISHED-TTL:PT1H
BEGIN:VTIMEZONE
TZID:America/Toronto
BEGIN:DAYLIGHT
TZOFFSETFROM:-0500
TZOFFSETTO:-0400
TZNAME:EDT
DTSTART:20260308T070000
END:DAYLIGHT
BEGIN:STANDARD
TZOFFSETFROM:-0400
TZOFFSETTO:-0500
TZNAME:EST
DTSTART:20261101T060000
END:STANDARD
END:VTIMEZONE
BEGIN:VEVENT
DTSTART;TZID=America/Toronto:20260401T190000
DTEND;TZID=America/Toronto:20260401T200000
DTSTAMP:20260421T140801
CREATED:20260330T022940Z
LAST-MODIFIED:20260330T024211Z
UID:6307-1775070000-1775073600@www.essentricswithcaroline.ca
SUMMARY:BOOK NOW - VIRTUAL ON ZOOM - WEDNESDAY 7:00PM - Essentrics® Aging Backwards (Virtual via ZOOM)
DESCRIPTION:
URL:https://www.essentricswithcaroline.ca/event/book-now-virtual-on-zoom-wednesday-700pm-essentrics-aging-backwards-virtual-via-zoom/
LOCATION:Virtual Zoom
CATEGORIES:Group Classes
ORGANIZER;CN="Caroline":MAILTO:info@essentricswithcaroline.ca
END:VEVENT
BEGIN:VEVENT
DTSTART;TZID=America/Toronto:20260330T090000
DTEND;TZID=America/Toronto:20260330T100000
DTSTAMP:20260421T140801
CREATED:20260228T201357Z
LAST-MODIFIED:20260228T202558Z
UID:6178-1774861200-1774864800@www.essentricswithcaroline.ca
SUMMARY:BOOK NOW - MONDAY 9:00AM - Essentrics® Strong\, Steady and Stretchy Full-Body Workout (FOLEY COMMUNITY CENTRE)
DESCRIPTION:
URL:https://www.essentricswithcaroline.ca/event/book-now-monday-930am-essentrics-strong-steady-and-stretchy-full-body-workout-foley-community-centre-2/
LOCATION:Foley Community Centre\, 60 Rankin Lake Rd\, Foley\, Ontario\, P2A 0B2\, Canada
CATEGORIES:Group Classes
ORGANIZER;CN="Caroline":MAILTO:info@essentricswithcaroline.ca
END:VEVENT
BEGIN:VEVENT
DTSTART;TZID=America/Toronto:20260328T103000
DTEND;TZID=America/Toronto:20260328T113000
DTSTAMP:20260421T140801
CREATED:20251224T135002Z
LAST-MODIFIED:20251224T135002Z
UID:5886-1774693800-1774697400@www.essentricswithcaroline.ca
SUMMARY:BOOK NOW - SATURDAY 10:30AM - Essentrics®Dynamic Stretch & Strength - STOCKEY CENTRE (PARRY SOUND)
DESCRIPTION:
URL:https://www.essentricswithcaroline.ca/event/book-now-saturday-1030am-essentricsdynamic-stretch-strength-stockey-centre-parry-sound-6/
LOCATION:Stockey Centre – Parry Sound\, 2 BAY STREET\, PARRY SOUND\, Ontario\, Canada
CATEGORIES:Group Classes
ORGANIZER;CN="Caroline":MAILTO:info@essentricswithcaroline.ca
END:VEVENT
BEGIN:VEVENT
DTSTART;TZID=America/Toronto:20260327T093000
DTEND;TZID=America/Toronto:20260327T103000
DTSTAMP:20260421T140801
CREATED:20260222T173157Z
LAST-MODIFIED:20260222T173558Z
UID:6134-1774603800-1774607400@www.essentricswithcaroline.ca
SUMMARY:BOOK NOW - FRIDAY 9:30AM - Essentrics® Friday Stretch and Tone (Humphrey Community Centre)
DESCRIPTION:
URL:https://www.essentricswithcaroline.ca/event/book-now-friday-930am-essentrics-friday-stretch-and-tone-humphrey-community-centre-6/
LOCATION:Humphrey Community Center-2nd Floor\, 15 Humphrey Dr\, Seguin\, ON\, P2A 2W8\, Canada
CATEGORIES:Group Classes
ORGANIZER;CN="Caroline":MAILTO:info@essentricswithcaroline.ca
END:VEVENT
BEGIN:VEVENT
DTSTART;TZID=America/Toronto:20260325T190000
DTEND;TZID=America/Toronto:20260325T200000
DTSTAMP:20260421T140801
CREATED:20260301T013535Z
LAST-MODIFIED:20260301T013535Z
UID:6203-1774465200-1774468800@www.essentricswithcaroline.ca
SUMMARY:BOOK NOW - VIRTUAL ON ZOOM - WEDNESDAY 7:00PM - Essentrics® Aging Backwards (Virtual via ZOOM)
DESCRIPTION:
URL:https://www.essentricswithcaroline.ca/event/book-now-virtual-on-zoom-wednesday-700pm-essentrics-aging-backwards-virtual-via-zoom-8/
LOCATION:Virtual Zoom
CATEGORIES:Group Classes
ORGANIZER;CN="Caroline":MAILTO:info@essentricswithcaroline.ca
END:VEVENT
BEGIN:VEVENT
DTSTART;TZID=America/Toronto:20260323T090000
DTEND;TZID=America/Toronto:20260323T100000
DTSTAMP:20260421T140801
CREATED:20260228T193950Z
LAST-MODIFIED:20260228T202524Z
UID:6173-1774256400-1774260000@www.essentricswithcaroline.ca
SUMMARY:BOOK NOW - MONDAY 9:00AM - Essentrics® Strong\, Steady and Stretchy Full-Body Workout (FOLEY COMMUNITY CENTRE)
DESCRIPTION:
URL:https://www.essentricswithcaroline.ca/event/book-now-monday-930am-essentrics-strong-steady-and-stretchy-full-body-workout-foley-community-centre/
LOCATION:Foley Community Centre\, 60 Rankin Lake Rd\, Foley\, Ontario\, P2A 0B2\, Canada
CATEGORIES:Group Classes
ORGANIZER;CN="Caroline":MAILTO:info@essentricswithcaroline.ca
END:VEVENT
BEGIN:VEVENT
DTSTART;TZID=America/Toronto:20260321T103000
DTEND;TZID=America/Toronto:20260321T113000
DTSTAMP:20260421T140801
CREATED:20251224T134826Z
LAST-MODIFIED:20251224T134826Z
UID:5883-1774089000-1774092600@www.essentricswithcaroline.ca
SUMMARY:BOOK NOW - SATURDAY 10:30AM - Essentrics®Dynamic Stretch & Strength - STOCKEY CENTRE (PARRY SOUND)
DESCRIPTION:
URL:https://www.essentricswithcaroline.ca/event/book-now-saturday-1030am-essentricsdynamic-stretch-strength-stockey-centre-parry-sound-5/
LOCATION:Stockey Centre – Parry Sound\, 2 BAY STREET\, PARRY SOUND\, Ontario\, Canada
CATEGORIES:Group Classes
ORGANIZER;CN="Caroline":MAILTO:info@essentricswithcaroline.ca
END:VEVENT
END:VCALENDAR